BEGIN:VCALENDAR
VERSION:2.0
PRODID:-//ox.ac.uk//NONSGML oxford.event//EN
X-WR-TIMEZONE:Europe/London
BEGIN:VTIMEZONE
TZID:Europe/London
X-LIC-LOCATION:Europe/London
BEGIN:DAYLIGHT
DTSTART;VALUE=DATE-TIME:19700329T010000
RRULE:FREQ=YEARLY;BYDAY=-1SU;BYMONTH=3
TZNAME:BST
TZOFFSETFROM:+0000
TZOFFSETTO:+0100
END:DAYLIGHT
BEGIN:STANDARD
DTSTART;VALUE=DATE-TIME:19701025T020000
RRULE:FREQ=YEARLY;BYDAY=-1SU;BYMONTH=10
TZNAME:GMT
TZOFFSETFROM:+0100
TZOFFSETTO:+0000
END:STANDARD
END:VTIMEZONE
BEGIN:VEVENT
SUMMARY:“They treat us as if we are of no importance”: Experiences of 
 displacement\, (in)justice and reconciliation across disaster\, epidemic a
 nd war in Sierra Leone
DTSTART;TZID=Europe/London;VALUE=DATE-TIME:20220209T150000
DTEND;TZID=Europe/London;VALUE=DATE-TIME:20220209T163000
DTSTAMP;VALUE=DATE-TIME:20260422T130625Z
UID:6cb3066972584e98ad803d74f21ed9b0
CATEGORIES:special-seminars-and-lectures
CREATED;VALUE=DATE-TIME:20220107T102716Z
LAST-MODIFIED;VALUE=DATE-TIME:20220204T115213Z
LOCATION:via Zoom
SPEAKER:Dr Mohamed Sesay (York University) and Professor Megan Bradley (Mc
 Gill University)
END:VEVENT
END:VCALENDAR
