BEGIN:VCALENDAR
VERSION:2.0
PRODID:-//ox.ac.uk//NONSGML oxford.event//EN
X-WR-TIMEZONE:Europe/London
BEGIN:VTIMEZONE
TZID:Europe/London
X-LIC-LOCATION:Europe/London
BEGIN:DAYLIGHT
DTSTART;VALUE=DATE-TIME:19700329T010000
RRULE:FREQ=YEARLY;BYDAY=-1SU;BYMONTH=3
TZNAME:BST
TZOFFSETFROM:+0000
TZOFFSETTO:+0100
END:DAYLIGHT
BEGIN:STANDARD
DTSTART;VALUE=DATE-TIME:19701025T020000
RRULE:FREQ=YEARLY;BYDAY=-1SU;BYMONTH=10
TZNAME:GMT
TZOFFSETFROM:+0100
TZOFFSETTO:+0000
END:STANDARD
END:VTIMEZONE
BEGIN:VEVENT
SUMMARY:The Constitutive Exterior: EU border externalisation and the socia
 l dynamics of the Senegal River Valley
DTSTART;TZID=Europe/London;VALUE=DATE-TIME:20220223T170000
DTEND;TZID=Europe/London;VALUE=DATE-TIME:20220223T183000
DTSTAMP;VALUE=DATE-TIME:20260422T130609Z
UID:7df498d655d340fa8579eb8db0fec7a6
CATEGORIES:public-seminar-series
CONTACT:Refugee Studies Centre
CREATED;VALUE=DATE-TIME:20220106T162345Z
LAST-MODIFIED;VALUE=DATE-TIME:20220308T143704Z
LOCATION:via Zoom
SPEAKER:Dr Hassan Ould Moctar (SOAS University of London)
END:VEVENT
END:VCALENDAR
