BEGIN:VCALENDAR
VERSION:2.0
PRODID:-//ox.ac.uk//NONSGML oxford.event//EN
X-WR-TIMEZONE:Europe/London
BEGIN:VTIMEZONE
TZID:Europe/London
X-LIC-LOCATION:Europe/London
BEGIN:DAYLIGHT
DTSTART;VALUE=DATE-TIME:19700329T010000
RRULE:FREQ=YEARLY;BYDAY=-1SU;BYMONTH=3
TZNAME:BST
TZOFFSETFROM:+0000
TZOFFSETTO:+0100
END:DAYLIGHT
BEGIN:STANDARD
DTSTART;VALUE=DATE-TIME:19701025T020000
RRULE:FREQ=YEARLY;BYDAY=-1SU;BYMONTH=10
TZNAME:GMT
TZOFFSETFROM:+0100
TZOFFSETTO:+0000
END:STANDARD
END:VTIMEZONE
BEGIN:VEVENT
SUMMARY:Recognising Refugees: Practices and Modes of Recognition
DTSTART;TZID=Europe/London;VALUE=DATE-TIME:20230921T110000
DTEND;TZID=Europe/London;VALUE=DATE-TIME:20230921T120000
DTSTAMP;VALUE=DATE-TIME:20260422T083245Z
UID:f7c1c19e41b649c5b76bb4bb03066c8b
CATEGORIES:public-seminar-series
CREATED;VALUE=DATE-TIME:20230911T112710Z
LAST-MODIFIED;VALUE=DATE-TIME:20230915T123320Z
LOCATION:Online
END:VEVENT
END:VCALENDAR
