BEGIN:VCALENDAR
VERSION:2.0
PRODID:-//ox.ac.uk//NONSGML oxford.event//EN
X-WR-TIMEZONE:Europe/London
BEGIN:VTIMEZONE
TZID:Europe/London
X-LIC-LOCATION:Europe/London
BEGIN:DAYLIGHT
DTSTART;VALUE=DATE-TIME:19700329T010000
RRULE:FREQ=YEARLY;BYDAY=-1SU;BYMONTH=3
TZNAME:BST
TZOFFSETFROM:+0000
TZOFFSETTO:+0100
END:DAYLIGHT
BEGIN:STANDARD
DTSTART;VALUE=DATE-TIME:19701025T020000
RRULE:FREQ=YEARLY;BYDAY=-1SU;BYMONTH=10
TZNAME:GMT
TZOFFSETFROM:+0100
TZOFFSETTO:+0000
END:STANDARD
END:VTIMEZONE
BEGIN:VEVENT
SUMMARY:Learning in Segregation as Syrian Refugee Children in Jordan
DTSTART;TZID=Europe/London;VALUE=DATE-TIME:20220216T150000
DTEND;TZID=Europe/London;VALUE=DATE-TIME:20220216T163000
DTSTAMP;VALUE=DATE-TIME:20260422T130620Z
UID:dbeb347527b24e2d937db08ef7ef5a53
CATEGORIES:special-seminars-and-lectures
CREATED;VALUE=DATE-TIME:20220107T102955Z
LAST-MODIFIED;VALUE=DATE-TIME:20220204T115236Z
LOCATION:via Zoom
SPEAKER:Dr Hiba Salem (Pedro Arrupe Research Fellow\, Oxford University)
END:VEVENT
END:VCALENDAR
