BEGIN:VCALENDAR
VERSION:2.0
PRODID:-//ox.ac.uk//NONSGML oxford.event//EN
X-WR-TIMEZONE:Europe/London
BEGIN:VTIMEZONE
TZID:Europe/London
X-LIC-LOCATION:Europe/London
BEGIN:DAYLIGHT
DTSTART;VALUE=DATE-TIME:19700329T010000
RRULE:FREQ=YEARLY;BYDAY=-1SU;BYMONTH=3
TZNAME:BST
TZOFFSETFROM:+0000
TZOFFSETTO:+0100
END:DAYLIGHT
BEGIN:STANDARD
DTSTART;VALUE=DATE-TIME:19701025T020000
RRULE:FREQ=YEARLY;BYDAY=-1SU;BYMONTH=10
TZNAME:GMT
TZOFFSETFROM:+0100
TZOFFSETTO:+0000
END:STANDARD
END:VTIMEZONE
BEGIN:VEVENT
SUMMARY:International Online School in Forced Migration
DTSTART;TZID=Europe/London;VALUE=DATE-TIME:20210920T000000
DTEND;TZID=Europe/London;VALUE=DATE-TIME:20210924T235959
DTSTAMP;VALUE=DATE-TIME:20260423T081347Z
UID:73f6877b60ca41fe8ce1cfdb6bfb8ddd
CATEGORIES:short-courses
CREATED;VALUE=DATE-TIME:20210331T113829Z
LAST-MODIFIED;VALUE=DATE-TIME:20210331T113845Z
END:VEVENT
END:VCALENDAR
