BEGIN:VCALENDAR
VERSION:2.0
PRODID:-//ox.ac.uk//NONSGML oxford.event//EN
X-WR-TIMEZONE:Europe/London
BEGIN:VTIMEZONE
TZID:Europe/London
X-LIC-LOCATION:Europe/London
BEGIN:DAYLIGHT
DTSTART;VALUE=DATE-TIME:19700329T010000
RRULE:FREQ=YEARLY;BYDAY=-1SU;BYMONTH=3
TZNAME:BST
TZOFFSETFROM:+0000
TZOFFSETTO:+0100
END:DAYLIGHT
BEGIN:STANDARD
DTSTART;VALUE=DATE-TIME:19701025T020000
RRULE:FREQ=YEARLY;BYDAY=-1SU;BYMONTH=10
TZNAME:GMT
TZOFFSETFROM:+0100
TZOFFSETTO:+0000
END:STANDARD
END:VTIMEZONE
BEGIN:VEVENT
SUMMARY:Exposure to Violence and the Prospects for Reconciliation: Evidenc
 e from Syria and Iraq
DTSTART;TZID=Europe/London;VALUE=DATE-TIME:20220223T150000
DTEND;TZID=Europe/London;VALUE=DATE-TIME:20220223T163000
DTSTAMP;VALUE=DATE-TIME:20260422T130314Z
UID:8366f216634548a6a87dfdd890b00429
CATEGORIES:special-seminars-and-lectures
CREATED;VALUE=DATE-TIME:20220107T103307Z
LAST-MODIFIED;VALUE=DATE-TIME:20220204T115259Z
LOCATION:via Zoom
SPEAKER:Professor Kristin Fabbe (Harvard University)
END:VEVENT
END:VCALENDAR
