BEGIN:VCALENDAR
VERSION:2.0
PRODID:-//ox.ac.uk//NONSGML oxford.event//EN
X-WR-TIMEZONE:Europe/London
BEGIN:VTIMEZONE
TZID:Europe/London
X-LIC-LOCATION:Europe/London
BEGIN:DAYLIGHT
DTSTART;VALUE=DATE-TIME:19700329T010000
RRULE:FREQ=YEARLY;BYDAY=-1SU;BYMONTH=3
TZNAME:BST
TZOFFSETFROM:+0000
TZOFFSETTO:+0100
END:DAYLIGHT
BEGIN:STANDARD
DTSTART;VALUE=DATE-TIME:19701025T020000
RRULE:FREQ=YEARLY;BYDAY=-1SU;BYMONTH=10
TZNAME:GMT
TZOFFSETFROM:+0100
TZOFFSETTO:+0000
END:STANDARD
END:VTIMEZONE
BEGIN:VEVENT
SUMMARY:Borders\, Militarism and Inequality in Global Capitalism: Reflecti
 ons on strategies for freedom
DTSTART;TZID=Europe/London;VALUE=DATE-TIME:20220216T170000
DTEND;TZID=Europe/London;VALUE=DATE-TIME:20220216T183000
DTSTAMP;VALUE=DATE-TIME:20260422T130028Z
UID:803e87db774b4ce18885ba19dd6802c1
CATEGORIES:public-seminar-series
CONTACT:Refugee Studies Centre
CREATED;VALUE=DATE-TIME:20220106T162055Z
LAST-MODIFIED;VALUE=DATE-TIME:20220126T122537Z
LOCATION:via Zoom
SPEAKER:Dr Hannah Cross (University of Westminster)
END:VEVENT
END:VCALENDAR
